BEGIN:VCALENDAR
VERSION:2.0
PRODID:-//wp-events-plugin.com//7.2.3.1//EN
TZID:Europe/Paris
X-WR-TIMEZONE:Europe/Paris
BEGIN:VEVENT
UID:26@couf.fr
DTSTART;TZID=Europe/Paris:20260604T183000
DTEND;TZID=Europe/Paris:20260604T200000
DTSTAMP:20251221T163143Z
URL:https://couf.fr/events/jeudi-du-couf-neuro-ophtalmologie-coordonne-par
 -pr-carl-arndt/
SUMMARY:Jeudi du COUF: NEURO-OPHTALMOLOGIE\, coordonné par Pr Carl Arndt
DESCRIPTION:Jeudi du COUF: NEURO-OPHTALMOLOGIE\, coordonné par Pr Carl Arn
 dt\n\n 	Neuropathies optiques toxiques\n 	Manifestations oculaires de la s
 clérose en plaques (SEP)\n 	Neuropathies optiques vasculaires artéritiqu
 e et non artéritique\n 	Tumeurs de la papille et du nerf optique : tumeur
 s noires de la papille\, gliome du NO\, méningiome\n 	Pathologie carotidi
 enne\, syndrome d'ischémie oculaire\, cécité monoculaire transitoire\n 
 	Anévrysmes intracrâniens\, fistules carotido-caverneuses\, fistules dur
 ales\n\n
END:VEVENT
BEGIN:VTIMEZONE
TZID:Europe/Paris
X-LIC-LOCATION:Europe/Paris
BEGIN:DAYLIGHT
DTSTART:20260329T030000
TZOFFSETFROM:+0100
TZOFFSETTO:+0200
TZNAME:CEST
END:DAYLIGHT
END:VTIMEZONE
END:VCALENDAR