BEGIN:VCALENDAR
VERSION:2.0
PRODID:-//wp-events-plugin.com//7.2.3.1//EN
TZID:Europe/Paris
X-WR-TIMEZONE:Europe/Paris
BEGIN:VEVENT
UID:25@couf.fr
DTSTART;TZID=Europe/Paris:20260528T183000
DTEND;TZID=Europe/Paris:20260528T200000
DTSTAMP:20251221T163030Z
URL:https://couf.fr/events/jeudi-du-couf-ophtalmo-pediatrie-et-strabisme-c
 oordonne-par-pr-arnaud-sauer/
SUMMARY:Jeudi du COUF: Ophtalmo-pédiatrie et Strabisme\, coordonné par Pr
  Arnaud Sauer
DESCRIPTION:Jeudi du COUF: Ophtalmo-pédiatrie et Strabisme\, coordonné pa
 r Pr Arnaud Sauer\n\n 	Strabismes divergents\, Strabismes verticaux\n 	Par
 alysies oculo-motrices \n 	Hétérophories\n 	Syndromes de rétraction: St
 illing-Duane\, Brown…\n 	Strabismes convergents\n
END:VEVENT
BEGIN:VTIMEZONE
TZID:Europe/Paris
X-LIC-LOCATION:Europe/Paris
BEGIN:DAYLIGHT
DTSTART:20260329T030000
TZOFFSETFROM:+0100
TZOFFSETTO:+0200
TZNAME:CEST
END:DAYLIGHT
END:VTIMEZONE
END:VCALENDAR