BEGIN:VCALENDAR
VERSION:2.0
PRODID:-//wp-events-plugin.com//7.2.3.1//EN
TZID:Europe/Paris
X-WR-TIMEZONE:Europe/Paris
BEGIN:VEVENT
UID:13@couf.fr
DTSTART;TZID=Europe/Paris:20250918T183000
DTEND;TZID=Europe/Paris:20250918T200000
DTSTAMP:20250903T133818Z
URL:https://couf.fr/events/jeudi-du-couf-orbite-paupiere-coordonne-par-pr-
 pierre-yves-robert/
SUMMARY:Jeudi du COUF ORBITE-PAUPIÈRE coordonné par Pr Pierre-Yves Robert
DESCRIPTION:- Conduite à tenir devant une exophtalmie\, une énophtalmie (
 Exophtalmie: 10 points clé)\n- Basedow: Physiopathologie\, clinique\, tra
 itement médical et chirurgical\n- Cellulites et mycoses orbitaires\n- Inf
 lammations orbitaires chroniques
END:VEVENT
BEGIN:VTIMEZONE
TZID:Europe/Paris
X-LIC-LOCATION:Europe/Paris
BEGIN:DAYLIGHT
DTSTART:20250330T030000
TZOFFSETFROM:+0100
TZOFFSETTO:+0200
TZNAME:CEST
END:DAYLIGHT
END:VTIMEZONE
END:VCALENDAR