BEGIN:VCALENDAR
VERSION:2.0
PRODID:-//wp-events-plugin.com//7.2.3.1//EN
TZID:Europe/Paris
X-WR-TIMEZONE:Europe/Paris
BEGIN:VEVENT
UID:21@couf.fr
DTSTART;TZID=Europe/Paris:20260122T183000
DTEND;TZID=Europe/Paris:20260122T200000
DTSTAMP:20251203T225800Z
URL:https://couf.fr/events/jeudi-du-couf-traumatologie-coordonne-par-pr-je
 an-louis-bourges/
SUMMARY:Jeudi du COUF TRAUMATOLOGIE\, coordonné par Pr Jean-Louis BOURGES
DESCRIPTION:Jeudi du COUF TRAUMATOLOGIE\, coordonné par Pr Jean-Louis BOUR
 GES:\n\n 	Traumatologie\, brûlures\, abrasions\, corps étrangers\, plaie
 s de la cornée \n 	Traumatismes craniens\, neuropathie optique traumatiqu
 e\, fractures de l'orbite\n 	Traumatismes et brûlures des paupières et d
 es voies lacrymales\n 	Traumatisme de la face\, de l'orbite\,  corps étr
 angers intra-orbitaires\n
END:VEVENT
BEGIN:VTIMEZONE
TZID:Europe/Paris
X-LIC-LOCATION:Europe/Paris
BEGIN:STANDARD
DTSTART:20251026T020000
TZOFFSETFROM:+0200
TZOFFSETTO:+0100
TZNAME:CET
END:STANDARD
END:VTIMEZONE
END:VCALENDAR