BEGIN:VCALENDAR
VERSION:2.0
PRODID:-//wp-events-plugin.com//7.2.3.1//EN
TZID:Europe/Paris
X-WR-TIMEZONE:Europe/Paris
BEGIN:VEVENT
UID:18@couf.fr
DTSTART;TZID=Europe/Paris:20260131T083000
DTEND;TZID=Europe/Paris:20260131T180000
DTSTAMP:20251123T160918Z
URL:https://couf.fr/events/societe-francaise-de-retine-journee-nationale-p
 resentiel-paris/
SUMMARY:Société Française de Rétine - Journée Nationale (présentiel\,
  Paris)
DESCRIPTION:Espace Saint Martin - 75003 Paris\n\nSous la présidence du Pr 
 Thibaud MATHIS\n\nInscription gratuite mais obligatoire: https://www.sfret
 ine-online.fr/events\n\n&nbsp\;
END:VEVENT
BEGIN:VTIMEZONE
TZID:Europe/Paris
X-LIC-LOCATION:Europe/Paris
BEGIN:STANDARD
DTSTART:20251026T020000
TZOFFSETFROM:+0200
TZOFFSETTO:+0100
TZNAME:CET
END:STANDARD
END:VTIMEZONE
END:VCALENDAR